BEGIN:VCALENDAR
VERSION:2.0
PRODID:-//eventon.com NONSGML v1.0//EN
CALSCALE:GREGORIAN
METHOD:PUBLISH
BEGIN:VEVENT
UID:69ed8cc808e45
DTSTAMP:20260426T035552Z
DTSTART:20220610T060000Z
DTEND:20220610T064500Z
LOCATION:The Rathskeller 401 East Michigan Street
SUMMARY:Alyssa Lazar (Thursday)
DESCRIPTION:Performing live in the Biergarten from 7-7:45! Prevailing cover
  charge will be taken at doors\,  must be 21+\nhttps://rathskeller.com/even
 ts/alyssa-lazar/
URL:https://rathskeller.com/events/alyssa-lazar/
END:VEVENT
END:VCALENDAR