BEGIN:VCALENDAR
VERSION:2.0
PRODID:-//eventon.com NONSGML v1.0//EN
CALSCALE:GREGORIAN
METHOD:PUBLISH
BEGIN:VEVENT
UID:69ed7c0aaff8c
DTSTAMP:20260426T024426Z
DTSTART:20220611T053000Z
DTEND:20220611T063000Z
LOCATION:The Rathskeller 401 East Michigan Street
SUMMARY:Forts Like Vana (Friday)
DESCRIPTION:Performing live in the Biergarten from 6:30-7:30! Prevailing co
 ver charge at the doors must be 21+\nhttps://rathskeller.com/events/forts-l
 ike-vana-friday/
URL:https://rathskeller.com/events/forts-like-vana-friday/
END:VEVENT
END:VCALENDAR