BEGIN:VCALENDAR
VERSION:2.0
PRODID:-//eventon.com NONSGML v1.0//EN
CALSCALE:GREGORIAN
METHOD:PUBLISH
BEGIN:VEVENT
UID:69ed6b7f3ddad
DTSTAMP:20260426T013351Z
DTSTART:20220612T033000Z
DTEND:20220612T053000Z
LOCATION:The Rathskeller 401 East Michigan Street
SUMMARY:Forts Like Vana (Saturday)
DESCRIPTION:Performing live in the Biergarten from 4:30-6:30\,  prevailing 
 cover charge must be 21+\nhttps://rathskeller.com/events/forts-like-vana-sa
 turday/
URL:https://rathskeller.com/events/forts-like-vana-saturday/
END:VEVENT
END:VCALENDAR