BEGIN:VCALENDAR
VERSION:2.0
PRODID:-//eventon.com NONSGML v1.0//EN
CALSCALE:GREGORIAN
METHOD:PUBLISH
BEGIN:VEVENT
UID:69ed59f7c47d8
DTSTAMP:20260426T001903Z
DTSTART:20220617T060000Z
DTEND:20220617T090000Z
LOCATION:The Rathskeller 401 East Michigan Street
SUMMARY:Dean Martini's (Thursday)
DESCRIPTION:Performing live in the Biergarten from 7-10! Prevailing cover c
 harge must be 21+\nhttps://rathskeller.com/events/dean-martinis-thursday-3/
URL:https://rathskeller.com/events/dean-martinis-thursday-3/
END:VEVENT
END:VCALENDAR