BEGIN:VCALENDAR
VERSION:2.0
PRODID:-//eventon.com NONSGML v1.0//EN
CALSCALE:GREGORIAN
METHOD:PUBLISH
BEGIN:VEVENT
UID:69ed49b322363
DTSTAMP:20260425T230939Z
DTSTART:20220620T010000Z
DTEND:20220620T043000Z
LOCATION:The Rathskeller 401 East Michigan Street
SUMMARY:Brad Mitchell (Sunday)
DESCRIPTION:Sunday Funday! Join us for some live entertainment must be 21+\
 nhttps://rathskeller.com/events/brad-mitchell-sunday-9/
URL:https://rathskeller.com/events/brad-mitchell-sunday-9/
END:VEVENT
END:VCALENDAR