BEGIN:VCALENDAR
VERSION:2.0
PRODID:-//eventon.com NONSGML v1.0//EN
CALSCALE:GREGORIAN
METHOD:PUBLISH
BEGIN:VEVENT
UID:69ed35d453ae3
DTSTAMP:20260425T214452Z
DTSTART:20220626T033000Z
DTEND:20220626T053000Z
LOCATION:The Rathskeller 401 East Michigan Street
SUMMARY:Prizefighter (Saturday)
DESCRIPTION:Performing live in the Biergarten! Must be 21+ Check out the ba
 nd here: https://www.prizefightermusic.com/\nhttps://rathskeller.com/events
 /prizefighter/
URL:https://rathskeller.com/events/prizefighter/
END:VEVENT
END:VCALENDAR