BEGIN:VCALENDAR
VERSION:2.0
PRODID:-//eventon.com NONSGML v1.0//EN
CALSCALE:GREGORIAN
METHOD:PUBLISH
BEGIN:VEVENT
UID:69ed2352074bc
DTSTAMP:20260425T202554Z
DTSTART:20220530T011800Z
DTEND:20220530T011800Z
LOCATION:
SUMMARY:Biergarten Closed for Private Event (Sunday)
DESCRIPTION:The Biergarten will be closed for a private event this day\,  c
 atch us another day!\nhttps://rathskeller.com/events/biergarten-closed-for-
 private-event-sunday/
URL:https://rathskeller.com/events/biergarten-closed-for-private-event-sunday/
END:VEVENT
END:VCALENDAR