BEGIN:VCALENDAR
VERSION:2.0
PRODID:-//eventon.com NONSGML v1.0//EN
CALSCALE:GREGORIAN
METHOD:PUBLISH
BEGIN:VEVENT
UID:69ed13581bdfd
DTSTAMP:20260425T191744Z
DTSTART:20220710T033000Z
DTEND:20220710T053000Z
LOCATION:The Rathskeller 401 East Michigan Street
SUMMARY:Corey Cox (Saturday)
DESCRIPTION:Performing live in the Biergarten! Must be 21+ Prevailing Cover
  at door/gate\nhttps://rathskeller.com/events/corey-cox-saturday/
URL:https://rathskeller.com/events/corey-cox-saturday/
END:VEVENT
END:VCALENDAR