BEGIN:VCALENDAR
VERSION:2.0
PRODID:-//eventon.com NONSGML v1.0//EN
CALSCALE:GREGORIAN
METHOD:PUBLISH
BEGIN:VEVENT
UID:69ecffad44f27
DTSTAMP:20260425T175349Z
DTSTART:20220717T000000Z
DTEND:20220717T030000Z
LOCATION:The Rathskeller 401 East Michigan Street
SUMMARY:Brian Goins (Saturday)
DESCRIPTION:Performing live in the Biergarten! Must be 21+ prevailing cover
  taken at doors\nhttps://rathskeller.com/events/brad-mitchell-saturday-4/
URL:https://rathskeller.com/events/brad-mitchell-saturday-4/
END:VEVENT
END:VCALENDAR