BEGIN:VCALENDAR
VERSION:2.0
PRODID:-//eventon.com NONSGML v1.0//EN
CALSCALE:GREGORIAN
METHOD:PUBLISH
BEGIN:VEVENT
UID:69ecee33acb8e
DTSTAMP:20260425T163915Z
DTSTART:20220724T060000Z
DTEND:20220724T070000Z
LOCATION:The Rathskeller 401 East Michigan Street
SUMMARY:Brady Lee (Saturday)
DESCRIPTION:Performing live in the Biergarten! Must be 21+ prevailing cover
  taken at doors\nhttps://rathskeller.com/events/brady-lee-saturday-2/
URL:https://rathskeller.com/events/brady-lee-saturday-2/
END:VEVENT
END:VCALENDAR