BEGIN:VCALENDAR
VERSION:2.0
PRODID:-//eventon.com NONSGML v1.0//EN
CALSCALE:GREGORIAN
METHOD:PUBLISH
BEGIN:VEVENT
UID:69ecdd6f19995
DTSTAMP:20260425T152743Z
DTSTART:20220724T070000Z
DTEND:20220724T100000Z
LOCATION:The Rathskeller 401 East Michigan Street
SUMMARY:True Villians (Saturday)
DESCRIPTION:Performing live in the Biergarten! Must be 21+ prevailing cover
  taken at doors\nhttps://rathskeller.com/events/tv-saturday/
URL:https://rathskeller.com/events/tv-saturday/
END:VEVENT
END:VCALENDAR