BEGIN:VCALENDAR
VERSION:2.0
PRODID:-//eventon.com NONSGML v1.0//EN
CALSCALE:GREGORIAN
METHOD:PUBLISH
BEGIN:VEVENT
UID:69eccad93993f
DTSTAMP:20260425T140825Z
DTSTART:20220731T033000Z
DTEND:20220731T053000Z
LOCATION:The Rathskeller 401 East Michigan Street
SUMMARY:The Brevet (Saturday)
DESCRIPTION:Performing live in the Biergarten! Must be 21+ prevailing cover
  taken at the doors\nhttps://rathskeller.com/events/the-brevet-saturday/
URL:https://rathskeller.com/events/the-brevet-saturday/
END:VEVENT
END:VCALENDAR