BEGIN:VCALENDAR
VERSION:2.0
PRODID:-//eventon.com NONSGML v1.0//EN
CALSCALE:GREGORIAN
METHOD:PUBLISH
BEGIN:VEVENT
UID:69ecb81b255a5
DTSTAMP:20260425T124827Z
DTSTART:20220717T033000Z
DTEND:20220717T053000Z
LOCATION:The Rathskeller 401 East Michigan Street
SUMMARY:Jessica Lynn (Saturday)
DESCRIPTION:Performing live in the Biergarten from 4:30-6:30! Prevailing co
 ver at the doors must be 21+\nhttps://rathskeller.com/events/jessica-lynn-s
 aturday/
URL:https://rathskeller.com/events/jessica-lynn-saturday/
END:VEVENT
END:VCALENDAR