BEGIN:VCALENDAR
VERSION:2.0
PRODID:-//eventon.com NONSGML v1.0//EN
CALSCALE:GREGORIAN
METHOD:PUBLISH
BEGIN:VEVENT
UID:69eca6566da62
DTSTAMP:20260425T113238Z
DTSTART:20220708T060000Z
DTEND:20220708T064500Z
LOCATION:The Rathskeller 401 East Michigan Street
SUMMARY:The Lonely Ones (Thursday)
DESCRIPTION:Performing live in the Biergarten from 7-7:45! Prevailing cover
  taken at doors\,  must be 21+\nhttps://rathskeller.com/events/the-lonely-o
 nes-thursday/
URL:https://rathskeller.com/events/the-lonely-ones-thursday/
END:VEVENT
END:VCALENDAR