BEGIN:VCALENDAR
VERSION:2.0
PRODID:-//eventon.com NONSGML v1.0//EN
CALSCALE:GREGORIAN
METHOD:PUBLISH
BEGIN:VEVENT
UID:69ec2eeca10e6
DTSTAMP:20260425T030308Z
DTSTART:20220821T033000Z
DTEND:20220821T053000Z
LOCATION:The Rathskeller 401 East Michigan Street
SUMMARY:The Backsliders (Saturday)
DESCRIPTION:Performing live in the Biergarten from 4:30-6:30! Prevailing co
 ver taken at the doors\,  must be 21+\nhttps://rathskeller.com/events/the-b
 acksliders-saturday/
URL:https://rathskeller.com/events/the-backsliders-saturday/
END:VEVENT
END:VCALENDAR