BEGIN:VCALENDAR
VERSION:2.0
PRODID:-//eventon.com NONSGML v1.0//EN
CALSCALE:GREGORIAN
METHOD:PUBLISH
BEGIN:VEVENT
UID:69ec1c4a8f8a7
DTSTAMP:20260425T014338Z
DTSTART:20220831T020000Z
DTEND:20220831T105900Z
LOCATION:The Rathskeller 401 East Michigan Street
SUMMARY:Biergarten Closed (Tuesday)
DESCRIPTION:The Biergarten will be closed to the public this evening due to
  a private event\,  thanks for your cooperation!\nhttps://rathskeller.com/e
 vents/biergarten-closed-3/
URL:https://rathskeller.com/events/biergarten-closed-3/
END:VEVENT
END:VCALENDAR