BEGIN:VCALENDAR
VERSION:2.0
PRODID:-//eventon.com NONSGML v1.0//EN
CALSCALE:GREGORIAN
METHOD:PUBLISH
BEGIN:VEVENT
UID:69ec07e71fd73
DTSTAMP:20260425T001639Z
DTSTART:20220707T060000Z
DTEND:20220707T090000Z
LOCATION:The Rathskeller 401 East Michigan Street
SUMMARY:(Cancelled) Drew Cagle & The Reputation (Wednesday)
DESCRIPTION:Performing LIVE in the Biergarten from 7-10pm. Must be 21+ prev
 ailing cover will be taken at the doors.\nhttps://rathskeller.com/events/dr
 ew-cagle-the-reputation-wednesday/
URL:https://rathskeller.com/events/drew-cagle-the-reputation-wednesday/
END:VEVENT
END:VCALENDAR