BEGIN:VCALENDAR
VERSION:2.0
PRODID:-//eventon.com NONSGML v1.0//EN
CALSCALE:GREGORIAN
METHOD:PUBLISH
BEGIN:VEVENT
UID:69ebf542b5b6d
DTSTAMP:20260424T225706Z
DTSTART:20220708T050000Z
DTEND:20220708T083000Z
LOCATION:
SUMMARY:Otherwise (Thursday)
DESCRIPTION:Playing LIVE in the Rathskeller Biergarten! DOORS: 5:00 The Lon
 ely Ones 7:00-7:45 Otherwise 8-9:30!! $15 in advance/ $20 Day Of Visit Rath
 skeller.eventbrite.com for tickets!!\nhttps://rathskeller.com/events/otherw
 ise-thursday-2/
URL:https://rathskeller.com/events/otherwise-thursday-2/
END:VEVENT
END:VCALENDAR