BEGIN:VCALENDAR
VERSION:2.0
PRODID:-//eventon.com NONSGML v1.0//EN
CALSCALE:GREGORIAN
METHOD:PUBLISH
BEGIN:VEVENT
UID:69ebdf513bf18
DTSTAMP:20260424T212329Z
DTSTART:20220729T060000Z
DTEND:20220729T090000Z
LOCATION:
SUMMARY:Prizefighter (Thursday)
DESCRIPTION:Playing LIVE in the Rathskeller Biergarten- 7:00-10:00- 21+ Pre
 vailing Cover Charge\nhttps://rathskeller.com/events/prizefighter-thursday/
URL:https://rathskeller.com/events/prizefighter-thursday/
END:VEVENT
END:VCALENDAR