BEGIN:VCALENDAR
VERSION:2.0
PRODID:-//eventon.com NONSGML v1.0//EN
CALSCALE:GREGORIAN
METHOD:PUBLISH
BEGIN:VEVENT
UID:69ebcbb6bdee8
DTSTAMP:20260424T195950Z
DTSTART:20220722T060000Z
DTEND:20220722T090000Z
LOCATION:
SUMMARY:Drew Cagle & The Reputations
DESCRIPTION:Playing LIVE in the Rathskeller Biergarten &#8211; 7:00-10:00 P
 M. Prevailing Cover Charge 21+\nhttps://rathskeller.com/events/drew-cagle-t
 he-reputations/
URL:https://rathskeller.com/events/drew-cagle-the-reputations/
END:VEVENT
END:VCALENDAR