BEGIN:VCALENDAR
VERSION:2.0
PRODID:-//eventon.com NONSGML v1.0//EN
CALSCALE:GREGORIAN
METHOD:PUBLISH
BEGIN:VEVENT
UID:69ebbb1fa6fdd
DTSTAMP:20260424T184903Z
DTSTART:20220911T033000Z
DTEND:20220911T053000Z
LOCATION:
SUMMARY:Angels Fallen (Saturday)
DESCRIPTION:Performing LIVE at The Rathskeller from 4:30-6:30pm 21+ $Prevai
 ling Cover Charge.\nhttps://rathskeller.com/events/angels-fallen/
URL:https://rathskeller.com/events/angels-fallen/
END:VEVENT
END:VCALENDAR