BEGIN:VCALENDAR
VERSION:2.0
PRODID:-//eventon.com NONSGML v1.0//EN
CALSCALE:GREGORIAN
METHOD:PUBLISH
BEGIN:VEVENT
UID:69eba906b920d
DTSTAMP:20260424T173150Z
DTSTART:20220911T060000Z
DTEND:20220911T100000Z
LOCATION:
SUMMARY:Stella Luna & The Satellites (Saturday)
DESCRIPTION:Performing LIVE at The Rathskeller from 7:00-11:00pm 21+ $Preva
 iling Cover Charge.\nhttps://rathskeller.com/events/stella-luna-the-satelli
 tes-saturday/
URL:https://rathskeller.com/events/stella-luna-the-satellites-saturday/
END:VEVENT
END:VCALENDAR