BEGIN:VCALENDAR
VERSION:2.0
PRODID:-//eventon.com NONSGML v1.0//EN
CALSCALE:GREGORIAN
METHOD:PUBLISH
BEGIN:VEVENT
UID:69eb970b02be6
DTSTAMP:20260424T161507Z
DTSTART:20220903T070000Z
DTEND:20220903T100000Z
LOCATION:
SUMMARY:The Flying Toasters (Friday)
DESCRIPTION:Performing LIVE at The Rathskeller from 8:00-11:00pm 21+ $Preva
 iling Cover Charge.\nhttps://rathskeller.com/events/the-flying-toasters-fri
 day-6/
URL:https://rathskeller.com/events/the-flying-toasters-friday-6/
END:VEVENT
END:VCALENDAR