BEGIN:VCALENDAR
VERSION:2.0
PRODID:-//eventon.com NONSGML v1.0//EN
CALSCALE:GREGORIAN
METHOD:PUBLISH
BEGIN:VEVENT
UID:69eba99b3927d
DTSTAMP:20260424T173419Z
DTSTART:20220904T033000Z
DTEND:20220904T053000Z
LOCATION:
SUMMARY:Corey Cox (Saturday)
DESCRIPTION:Performing LIVE at The Rathskeller from 4:30-6:30pm 21+ $Prevai
 ling Cover Charge.\nhttps://rathskeller.com/events/corey-cox-saturday-2/
URL:https://rathskeller.com/events/corey-cox-saturday-2/
END:VEVENT
END:VCALENDAR