BEGIN:VCALENDAR
VERSION:2.0
PRODID:-//eventon.com NONSGML v1.0//EN
CALSCALE:GREGORIAN
METHOD:PUBLISH
BEGIN:VEVENT
UID:69ebba2f16523
DTSTAMP:20260424T184503Z
DTSTART:20220905T010000Z
DTEND:20220905T043000Z
LOCATION:
SUMMARY:Brad Mitchell (Sunday)
DESCRIPTION:Performing LIVE at The Rathskeller from 2:00-5:30pm 21+ $Prevai
 ling Cover Charge.\nhttps://rathskeller.com/events/brad-mitchell-sunday-10/
URL:https://rathskeller.com/events/brad-mitchell-sunday-10/
END:VEVENT
END:VCALENDAR