BEGIN:VCALENDAR
VERSION:2.0
PRODID:-//eventon.com NONSGML v1.0//EN
CALSCALE:GREGORIAN
METHOD:PUBLISH
BEGIN:VEVENT
UID:69ebcc70664c3
DTSTAMP:20260424T200256Z
DTSTART:20220918T033000Z
DTEND:20220918T053000Z
LOCATION:
SUMMARY:Ryan Clark (Saturday)
DESCRIPTION:Performing LIVE at The Rathskeller from 4:30-6:30pm 21+ $Prevai
 ling Cover Charge.\nhttps://rathskeller.com/events/ryan-clark-saturday-2/
URL:https://rathskeller.com/events/ryan-clark-saturday-2/
END:VEVENT
END:VCALENDAR