BEGIN:VCALENDAR
VERSION:2.0
PRODID:-//eventon.com NONSGML v1.0//EN
CALSCALE:GREGORIAN
METHOD:PUBLISH
BEGIN:VEVENT
UID:69ebdee33a180
DTSTAMP:20260424T212139Z
DTSTART:20220924T050000Z
DTEND:20220924T063000Z
LOCATION:
SUMMARY:Christine Kindred (Friday)
DESCRIPTION:Performing LIVE at The Rathskeller from 6:00-7:30pm 21+ $Prevai
 ling Cover Charge.\nhttps://rathskeller.com/events/christine-kindred-friday
 /
URL:https://rathskeller.com/events/christine-kindred-friday/
END:VEVENT
END:VCALENDAR