BEGIN:VCALENDAR
VERSION:2.0
PRODID:-//eventon.com NONSGML v1.0//EN
CALSCALE:GREGORIAN
METHOD:PUBLISH
BEGIN:VEVENT
UID:69ebf3d9c420e
DTSTAMP:20260424T225105Z
DTSTART:20220925T000000Z
DTEND:20220925T023000Z
LOCATION:
SUMMARY:Jesse Brown (Saturday)
DESCRIPTION:Performing LIVE at The Rathskeller from 1:00-3:30 pm 21+ $Preva
 iling Cover Charge.\nhttps://rathskeller.com/events/jesse-brown-saturday/
URL:https://rathskeller.com/events/jesse-brown-saturday/
END:VEVENT
END:VCALENDAR