BEGIN:VCALENDAR
VERSION:2.0
PRODID:-//eventon.com NONSGML v1.0//EN
CALSCALE:GREGORIAN
METHOD:PUBLISH
BEGIN:VEVENT
UID:69ec07a953d97
DTSTAMP:20260425T001537Z
DTSTART:20220925T033000Z
DTEND:20220925T053000Z
LOCATION:
SUMMARY:Elysia Marie (Saturday)
DESCRIPTION:Performing LIVE at The Rathskeller from 4:30-6:30 pm 21+ $Preva
 iling Cover Charge.\nhttps://rathskeller.com/events/elysia-marie-saturday/
URL:https://rathskeller.com/events/elysia-marie-saturday/
END:VEVENT
END:VCALENDAR