BEGIN:VCALENDAR
VERSION:2.0
PRODID:-//eventon.com NONSGML v1.0//EN
CALSCALE:GREGORIAN
METHOD:PUBLISH
BEGIN:VEVENT
UID:69ec1c92b3d19
DTSTAMP:20260425T014450Z
DTSTART:20220925T070000Z
DTEND:20220925T100000Z
LOCATION:
SUMMARY:Sweet Lizzy Project (Saturday)
DESCRIPTION:Performing LIVE at The Rathskeller from 8:00-11:00pm 21+ $Preva
 iling Cover Charge.\nhttps://rathskeller.com/events/sweet-lizzy-project-sat
 urday-2/
URL:https://rathskeller.com/events/sweet-lizzy-project-saturday-2/
END:VEVENT
END:VCALENDAR