BEGIN:VCALENDAR
VERSION:2.0
PRODID:-//eventon.com NONSGML v1.0//EN
CALSCALE:GREGORIAN
METHOD:PUBLISH
BEGIN:VEVENT
UID:69ec30f4d3dac
DTSTAMP:20260425T031148Z
DTSTART:20220902T060000Z
DTEND:20220902T090000Z
LOCATION:The Rathskeller 401 East Michigan Street
SUMMARY:Hippies & Cowboys (Thursday)
DESCRIPTION:Playing live in the Biergarten from 7-10pm. Prevailing Cover mu
 st be 21+ https://www.facebook.com/hippiesandcowboysband/?ref=pages_you_man
 age\nhttps://rathskeller.com/events/hippies-cowboys-thursday/
URL:https://rathskeller.com/events/hippies-cowboys-thursday/
END:VEVENT
END:VCALENDAR