BEGIN:VCALENDAR
VERSION:2.0
PRODID:-//eventon.com NONSGML v1.0//EN
CALSCALE:GREGORIAN
METHOD:PUBLISH
BEGIN:VEVENT
UID:69eca7a253e88
DTSTAMP:20260425T113810Z
DTSTART:20220923T050000Z
DTEND:20220923T080000Z
LOCATION:
SUMMARY:The Woomblies (Thursday)
DESCRIPTION:The Woomblies are playing for INDIANAPOLIS BRA DAY FUNDRAISER!!
  Come support a great cause and listen to a great band!!!\nhttps://rathskel
 ler.com/events/the-woomblies-thursday/
URL:https://rathskeller.com/events/the-woomblies-thursday/
END:VEVENT
END:VCALENDAR