BEGIN:VCALENDAR
VERSION:2.0
PRODID:-//eventon.com NONSGML v1.0//EN
CALSCALE:GREGORIAN
METHOD:PUBLISH
BEGIN:VEVENT
UID:69ecb82e76461
DTSTAMP:20260425T124846Z
DTSTART:20220929T053000Z
DTEND:20220929T083000Z
LOCATION:
SUMMARY:Joshua Powell (Wednesday)
DESCRIPTION:Playing LIVE in the Rathskeller Biergarten 6:30-9:30- Prevailin
 g Cover Charge at the door- 21+\nhttps://rathskeller.com/events/joshua-powe
 ll-wednesday/
URL:https://rathskeller.com/events/joshua-powell-wednesday/
END:VEVENT
END:VCALENDAR