BEGIN:VCALENDAR
VERSION:2.0
PRODID:-//eventon.com NONSGML v1.0//EN
CALSCALE:GREGORIAN
METHOD:PUBLISH
BEGIN:VEVENT
UID:69eccb54af1bb
DTSTAMP:20260425T141028Z
DTSTART:20221007T053000Z
DTEND:20221007T080000Z
LOCATION:The Rathskeller 401 East Michigan Street
SUMMARY:Prizefighter Solo Acoustic with Jeremy Mederich (Thursday)
DESCRIPTION:Performing live in the Biergarten from 6:30-9:00! Prevailing co
 ver must be 21+\nhttps://rathskeller.com/events/prizefighter-solo-acoustic-
 with-jeremy-mederich/
URL:https://rathskeller.com/events/prizefighter-solo-acoustic-with-jeremy-mederich/
END:VEVENT
END:VCALENDAR