BEGIN:VCALENDAR
VERSION:2.0
PRODID:-//eventon.com NONSGML v1.0//EN
CALSCALE:GREGORIAN
METHOD:PUBLISH
BEGIN:VEVENT
UID:69ecdea218e7b
DTSTAMP:20260425T153250Z
DTSTART:20221013T053000Z
DTEND:20221013T083000Z
LOCATION:The Rathskeller 401 East Michigan Street
SUMMARY:Frank Bradford (Wednesday)
DESCRIPTION:Performing live in the Biergarten from 6:30-9:30! Prevailing co
 ver must be 21+\nhttps://rathskeller.com/events/frank-bradford-2/
URL:https://rathskeller.com/events/frank-bradford-2/
END:VEVENT
END:VCALENDAR