BEGIN:VCALENDAR
VERSION:2.0
PRODID:-//eventon.com NONSGML v1.0//EN
CALSCALE:GREGORIAN
METHOD:PUBLISH
BEGIN:VEVENT
UID:69ecee6728f86
DTSTAMP:20260425T164007Z
DTSTART:20221014T053000Z
DTEND:20221014T083000Z
LOCATION:The Rathskeller 401 East Michigan Street
SUMMARY:Gene Deer (Thursday)
DESCRIPTION:Performing live in the Biergarten from 6:30-9:30! Must be 21+ P
 revailing cover\nhttps://rathskeller.com/events/gene-deer/
URL:https://rathskeller.com/events/gene-deer/
END:VEVENT
END:VCALENDAR