BEGIN:VCALENDAR
VERSION:2.0
PRODID:-//eventon.com NONSGML v1.0//EN
CALSCALE:GREGORIAN
METHOD:PUBLISH
BEGIN:VEVENT
UID:69ed00c36ce0d
DTSTAMP:20260425T175827Z
DTSTART:20221005T220000Z
DTEND:20221006T090000Z
LOCATION:The Rathskeller 401 East Michigan Street
SUMMARY:Closed-Wayne Bigbee's Funeral
DESCRIPTION:The Rathskeller will be closed this day to attend the funeral a
 nd mourn the loss of Wayne Bigbee\,  please join us Location- Lavenia &amp;
  Summers 5811 East 38th Street Indianapolis IN\,  46218 Viewing: 10am-12pm 
 Service: 12pm\nhttps://rathskeller.com/events/closed-wayne-bigbees-funeral/
URL:https://rathskeller.com/events/closed-wayne-bigbees-funeral/
END:VEVENT
END:VCALENDAR