BEGIN:VCALENDAR
VERSION:2.0
PRODID:-//eventon.com NONSGML v1.0//EN
CALSCALE:GREGORIAN
METHOD:PUBLISH
BEGIN:VEVENT
UID:69ed132ea6409
DTSTAMP:20260425T191702Z
DTSTART:20221021T053000Z
DTEND:20221021T083000Z
LOCATION:The Rathskeller 401 East Michigan Street
SUMMARY:The Brown Goose (Thursday)
DESCRIPTION:Performing live in the Biergarten from 6:30-9:30! Prevailing co
 ver charge must be 21+\nhttps://rathskeller.com/events/the-brown-goose-thur
 sday/
URL:https://rathskeller.com/events/the-brown-goose-thursday/
END:VEVENT
END:VCALENDAR