BEGIN:VCALENDAR
VERSION:2.0
PRODID:-//eventon.com NONSGML v1.0//EN
CALSCALE:GREGORIAN
METHOD:PUBLISH
BEGIN:VEVENT
UID:69ed26536d95c
DTSTAMP:20260425T203843Z
DTSTART:20221030T054500Z
DTEND:20221030T064500Z
LOCATION:
SUMMARY:Drew Cagle (Saturday)
DESCRIPTION:Performing live in the Biergarten from 6:45-7:45 prevailing cov
 er must be 21+. A part of the Halloween Party come dressed up for a chance 
 at some spooktacular prizes!\nhttps://rathskeller.com/events/drew-cagle-sat
 urday-2/
URL:https://rathskeller.com/events/drew-cagle-saturday-2/
END:VEVENT
END:VCALENDAR