BEGIN:VCALENDAR
VERSION:2.0
PRODID:-//eventon.com NONSGML v1.0//EN
CALSCALE:GREGORIAN
METHOD:PUBLISH
BEGIN:VEVENT
UID:69ed38789d09f
DTSTAMP:20260425T215608Z
DTSTART:20221112T070000Z
DTEND:20221112T100000Z
LOCATION:The Rathskeller 401 East Michigan Street
SUMMARY:Six Foot Blonde (Friday)
DESCRIPTION:Performing live in the Grand Kellersaal! Prevailing cover charg
 e\nhttps://rathskeller.com/events/six-foot-blonde-friday/
URL:https://rathskeller.com/events/six-foot-blonde-friday/
END:VEVENT
END:VCALENDAR