BEGIN:VCALENDAR
VERSION:2.0
PRODID:-//eventon.com NONSGML v1.0//EN
CALSCALE:GREGORIAN
METHOD:PUBLISH
BEGIN:VEVENT
UID:69ea23f688c5d
DTSTAMP:20260423T135150Z
DTSTART:20230304T070000Z
DTEND:20230304T100000Z
LOCATION:
SUMMARY:Doug Henthorn (Friday)
DESCRIPTION:Playing LIVE in the Rathskeller Kellerbar! 8:00-11:00 PM 21+ FR
 EE SHOW!\nhttps://rathskeller.com/events/doug-henthorn-friday/
URL:https://rathskeller.com/events/doug-henthorn-friday/
END:VEVENT
END:VCALENDAR