BEGIN:VCALENDAR
VERSION:2.0
PRODID:-//eventon.com NONSGML v1.0//EN
CALSCALE:GREGORIAN
METHOD:PUBLISH
BEGIN:VEVENT
UID:69ea103a48aa9
DTSTAMP:20260423T122738Z
DTSTART:20230305T070000Z
DTEND:20230305T100000Z
LOCATION:
SUMMARY:Warrior Kings Acoustic (Sat)
DESCRIPTION:Playing LIVE in the Kellerbar 8-11 PM! 21+ Free Show!!\nhttps:/
 /rathskeller.com/events/warrior-kings-acoustic-sat/
URL:https://rathskeller.com/events/warrior-kings-acoustic-sat/
END:VEVENT
END:VCALENDAR