BEGIN:VCALENDAR
VERSION:2.0
PRODID:-//eventon.com NONSGML v1.0//EN
CALSCALE:GREGORIAN
METHOD:PUBLISH
BEGIN:VEVENT
UID:69e9fd50c5449
DTSTAMP:20260423T110656Z
DTSTART:20230311T070000Z
DTEND:20230311T090000Z
LOCATION:
SUMMARY:Prizefighter Solo Acoustic (Fri)
DESCRIPTION:Jeremy Mederich Playing LIVE in the Kellerbar 8- 10 PM- 21+ Fre
 e Show!\nhttps://rathskeller.com/events/prizefighter-solo-acoustic-sat/
URL:https://rathskeller.com/events/prizefighter-solo-acoustic-sat/
END:VEVENT
END:VCALENDAR