BEGIN:VCALENDAR
VERSION:2.0
PRODID:-//eventon.com NONSGML v1.0//EN
CALSCALE:GREGORIAN
METHOD:PUBLISH
BEGIN:VEVENT
UID:69e9ed252f0a9
DTSTAMP:20260423T095757Z
DTSTART:20230312T070000Z
DTEND:20230312T100000Z
LOCATION:
SUMMARY:Kara Cole (Sat)
DESCRIPTION:Playing LIVE in the Kellerbar 8-11 PM 21+ Free Show!!\nhttps://
 rathskeller.com/events/kara-cole-sat/
URL:https://rathskeller.com/events/kara-cole-sat/
END:VEVENT
END:VCALENDAR