BEGIN:VCALENDAR
VERSION:2.0
PRODID:-//eventon.com NONSGML v1.0//EN
CALSCALE:GREGORIAN
METHOD:PUBLISH
BEGIN:VEVENT
UID:69e9c4c189f1c
DTSTAMP:20260423T070537Z
DTSTART:20230317T230000Z
DTEND:20230318T090000Z
LOCATION:
SUMMARY:St Patrick's Day Bash (Friday)
DESCRIPTION:Irish Aires 12-4 Irish Dancers 4:15 Gordon Pipers 5:00 The Doo!
  7:00-10:00 PM\nhttps://rathskeller.com/events/st-patricks-day-bash-friday/
URL:https://rathskeller.com/events/st-patricks-day-bash-friday/
END:VEVENT
END:VCALENDAR