BEGIN:VCALENDAR
VERSION:2.0
PRODID:-//eventon.com NONSGML v1.0//EN
CALSCALE:GREGORIAN
METHOD:PUBLISH
BEGIN:VEVENT
UID:69e9da50a8e68
DTSTAMP:20260423T083736Z
DTSTART:20230218T070000Z
DTEND:20230218T100000Z
LOCATION:
SUMMARY:Joe Bockheim of Legal Immigrants (Friday)
DESCRIPTION:Playing LIVE in the Kellerbar from 8:00-11:00 PM Free show!! 21
 +\nhttps://rathskeller.com/events/joe-bockheim-of-legal-immigrants/
URL:https://rathskeller.com/events/joe-bockheim-of-legal-immigrants/
END:VEVENT
END:VCALENDAR