BEGIN:VCALENDAR
VERSION:2.0
PRODID:-//eventon.com NONSGML v1.0//EN
CALSCALE:GREGORIAN
METHOD:PUBLISH
BEGIN:VEVENT
UID:69e9d6e92e869
DTSTAMP:20260423T082305Z
DTSTART:20230319T070000Z
DTEND:20230319T100000Z
LOCATION:
SUMMARY:Brian Goins Duo (Sat)
DESCRIPTION:Playing LIVE in the Rathskeller Kellerbar! Free Show! 21+\nhttp
 s://rathskeller.com/events/brian-goins-duo-sat/
URL:https://rathskeller.com/events/brian-goins-duo-sat/
END:VEVENT
END:VCALENDAR