BEGIN:VCALENDAR
VERSION:2.0
PRODID:-//eventon.com NONSGML v1.0//EN
CALSCALE:GREGORIAN
METHOD:PUBLISH
BEGIN:VEVENT
UID:69e9e83603aab
DTSTAMP:20260423T093654Z
DTSTART:20230325T070000Z
DTEND:20230325T100000Z
LOCATION:
SUMMARY:Brad Mitchell (Friday)
DESCRIPTION:Playing LIVE in the Rathskeller Kellerbar 8-11PM- Free Show! 21
 +\nhttps://rathskeller.com/events/brad-mitchell-friday-6/
URL:https://rathskeller.com/events/brad-mitchell-friday-6/
END:VEVENT
END:VCALENDAR