BEGIN:VCALENDAR
VERSION:2.0
PRODID:-//eventon.com NONSGML v1.0//EN
CALSCALE:GREGORIAN
METHOD:PUBLISH
BEGIN:VEVENT
UID:69e9f7bf897ce
DTSTAMP:20260423T104311Z
DTSTART:20230326T070000Z
DTEND:20230326T100000Z
LOCATION:
SUMMARY:Alexander Camp (Sat)
DESCRIPTION:Playing LIVE in the Kellerbar 8:00-11:00 PM! Free Show! 21+\nht
 tps://rathskeller.com/events/alexander-camp-sat/
URL:https://rathskeller.com/events/alexander-camp-sat/
END:VEVENT
END:VCALENDAR