BEGIN:VCALENDAR
VERSION:2.0
PRODID:-//eventon.com NONSGML v1.0//EN
CALSCALE:GREGORIAN
METHOD:PUBLISH
BEGIN:VEVENT
UID:69ed8c331f660
DTSTAMP:20260426T035323Z
DTSTART:20240615T130000Z
DTEND:20240615T160000Z
LOCATION:
SUMMARY:Joshua Bucy (Saturday)
DESCRIPTION:Playing live in our World Famous Biergarten (weather permitting
 ) Prevailing Cover Charge 21+\nhttps://rathskeller.com/events/joshua-bucy-s
 aturday/
URL:https://rathskeller.com/events/joshua-bucy-saturday/
END:VEVENT
END:VCALENDAR